BEGIN:VCALENDAR
VERSION:2.0
PRODID:-//The 1867 Sanctuary - ECPv6.10.0//NONSGML v1.0//EN
CALSCALE:GREGORIAN
METHOD:PUBLISH
X-WR-CALNAME:The 1867 Sanctuary
X-ORIGINAL-URL:https://1867sanctuary.org
X-WR-CALDESC:Events for The 1867 Sanctuary
REFRESH-INTERVAL;VALUE=DURATION:PT1H
X-Robots-Tag:noindex
X-PUBLISHED-TTL:PT1H
BEGIN:VTIMEZONE
TZID:America/New_York
BEGIN:DAYLIGHT
TZOFFSETFROM:-0500
TZOFFSETTO:-0400
TZNAME:EDT
DTSTART:20240310T070000
END:DAYLIGHT
BEGIN:STANDARD
TZOFFSETFROM:-0400
TZOFFSETTO:-0500
TZNAME:EST
DTSTART:20241103T060000
END:STANDARD
END:VTIMEZONE
BEGIN:VEVENT
DTSTART;TZID=America/New_York:20241018T000000
DTEND;TZID=America/New_York:20241020T235959
DTSTAMP:20260424T055504
CREATED:20241001T183530Z
LAST-MODIFIED:20241010T201610Z
UID:4688-1729209600-1729468799@1867sanctuary.org
SUMMARY:Pirates of Penzance
DESCRIPTION:The Iolanthe Opera Company will present four performances of this Gilbert & Sullivan classic at the 1867 Sanctuary. \nFriday\, October 18 at 7:30 pm. \nSaturday\, October 19 at 2:30 and 7:30 pm \nSunday\, October 20 at 2:30 pm. \nTickets:  $25 Adult\, $20 Senior\, $20 Student \nTickets sold at door:  Cash\, Check\, or Credit Card. \n  \n 
URL:https://1867sanctuary.org/event/pirates-of-penzance/
LOCATION:NJ
ATTACH;FMTTYPE=image/jpeg:https://1867sanctuary.org/wp-content/uploads/2024/10/pirateposter-sm-1.jpg
END:VEVENT
BEGIN:VEVENT
DTSTART;TZID=America/New_York:20241027T143000
DTEND;TZID=America/New_York:20241027T143000
DTSTAMP:20260424T055504
CREATED:20241001T184058Z
LAST-MODIFIED:20241016T194143Z
UID:4690-1730039400-1730039400@1867sanctuary.org
SUMMARY:Tosca
DESCRIPTION:Center Stage Opera presents\, Tosca\, one of Puccini’s most beloved operas…  \na dramatic tale of love\, jealousy\, retribution and loss –  set to Puccini’s glorious music! \nSunday\, October 27\, at 2:30 pm. \nTickets: Adults $25\, Students $10 (cash\, check\, and credit card accepted) \n 
URL:https://1867sanctuary.org/event/tosca/
LOCATION:NJ
ATTACH;FMTTYPE=image/jpeg:https://1867sanctuary.org/wp-content/uploads/2024/10/tosca.jpg
END:VEVENT
END:VCALENDAR