BEGIN:VCALENDAR
VERSION:2.0
PRODID:-//The 1867 Sanctuary - ECPv6.10.0//NONSGML v1.0//EN
CALSCALE:GREGORIAN
METHOD:PUBLISH
X-ORIGINAL-URL:https://1867sanctuary.org
X-WR-CALDESC:Events for The 1867 Sanctuary
REFRESH-INTERVAL;VALUE=DURATION:PT1H
X-Robots-Tag:noindex
X-PUBLISHED-TTL:PT1H
BEGIN:VTIMEZONE
TZID:America/New_York
BEGIN:DAYLIGHT
TZOFFSETFROM:-0500
TZOFFSETTO:-0400
TZNAME:EDT
DTSTART:20240310T070000
END:DAYLIGHT
BEGIN:STANDARD
TZOFFSETFROM:-0400
TZOFFSETTO:-0500
TZNAME:EST
DTSTART:20241103T060000
END:STANDARD
END:VTIMEZONE
BEGIN:VEVENT
DTSTART;TZID=America/New_York:20241224T183000
DTEND;TZID=America/New_York:20241224T183000
DTSTAMP:20260420T075544
CREATED:20241213T210358Z
LAST-MODIFIED:20241213T210358Z
UID:4737-1735065000-1735065000@1867sanctuary.org
SUMMARY:Christmas Eve Candlelight Service of Lessons & Carols
DESCRIPTION:Please join us for a very special Christmas Eve Candlelight Service of Lessons & Carols at the 1867 Sanctuary\, hosted by the Ewing Covenant Presbyterian Church.  We’ll hear the familiar readings and sing carols together\, as we welcome peace and joy into our lives. \nThe service includes music from the Ewing Covenant choir\, handbell choir\, organ\, piano\, and soloists. \nCome and experience this very special and beautiful service. \nChristmas Eve\, 6:30 pm \nOpen to the community. All are welcome!
URL:https://1867sanctuary.org/event/christmas-eve-candlelight-service-of-lessons-carols-2/
LOCATION:NJ
ATTACH;FMTTYPE=image/jpeg:https://1867sanctuary.org/wp-content/uploads/2021/07/Christmas-Eve-Candlelight-med-res.jpg
END:VEVENT
END:VCALENDAR