BEGIN:VCALENDAR
VERSION:2.0
PRODID:-//The 1867 Sanctuary - ECPv6.10.0//NONSGML v1.0//EN
CALSCALE:GREGORIAN
METHOD:PUBLISH
X-WR-CALNAME:The 1867 Sanctuary
X-ORIGINAL-URL:https://1867sanctuary.org
X-WR-CALDESC:Events for The 1867 Sanctuary
REFRESH-INTERVAL;VALUE=DURATION:PT1H
X-Robots-Tag:noindex
X-PUBLISHED-TTL:PT1H
BEGIN:VTIMEZONE
TZID:America/New_York
BEGIN:DAYLIGHT
TZOFFSETFROM:-0500
TZOFFSETTO:-0400
TZNAME:EDT
DTSTART:20240310T070000
END:DAYLIGHT
BEGIN:STANDARD
TZOFFSETFROM:-0400
TZOFFSETTO:-0500
TZNAME:EST
DTSTART:20241103T060000
END:STANDARD
END:VTIMEZONE
BEGIN:VEVENT
DTSTART;TZID=America/New_York:20241201T150000
DTEND;TZID=America/New_York:20241201T150000
DTSTAMP:20260420T072058
CREATED:20241119T144107Z
LAST-MODIFIED:20241119T150222Z
UID:4713-1733065200-1733065200@1867sanctuary.org
SUMMARY:Bridgette & Scott Johnson - Christmas Classics
DESCRIPTION:Bridgette and Scott Johnson present Christmas Classics and Seasonal Favorites. \nSunday\, December 1 at 3 pm \nWith Martin Neron\, Pianist \nFeaturing Members of the Johnson Voice Studio \nTickets: General Admission – $25 (Cash\, Check\, and Credit Card Accepted) \n  \n 
URL:https://1867sanctuary.org/event/bridgette-scott-johnson-christmas-classics/
LOCATION:NJ
ATTACH;FMTTYPE=image/jpeg:https://1867sanctuary.org/wp-content/uploads/2024/11/Lets-Duet-Happy-Holidays-12124-sm3.jpg
END:VEVENT
END:VCALENDAR